BEGIN:VCALENDAR
METHOD:PUBLISH
VERSION:2.0
CALSCALE:GREGORIAN
PRODID:-//NONSGML WPForms//NONSGML Sugar Calendar Feeds v3.11.0//EN
X-WR-CALNAME:May Chamber Luncheon - Sponsored by MIDFlorida\, TECO and E
 ye Candy Prints
X-WR-CALDESC:Uptown Chamber of Commerce
X-WR-TIMEZONE:America/New_York
BEGIN:VTIMEZONE
TZID:America/New_York
BEGIN:DAYLIGHT
TZOFFSETFROM:-0500
TZOFFSETTO:-0400
DTSTART:20260308T070000
TZNAME:EDT
END:DAYLIGHT
END:VTIMEZONE
BEGIN:VTIMEZONE
TZID:America/New_York
BEGIN:DAYLIGHT
TZOFFSETFROM:-0500
TZOFFSETTO:-0400
DTSTART:20260308T070000
TZNAME:EDT
END:DAYLIGHT
END:VTIMEZONE
BEGIN:VEVENT
SUMMARY:May Chamber Luncheon - Sponsored by MIDFlorida\, TECO and Eye Ca
 ndy Prints
DESCRIPTION:Join us for a fantastic lunch and amazing networking.\n\nHea
 r updates from City of Tampa Mayor Jane Castor\n\n11:00 - 11:30 - Arriva
 l and Open Networking\n\n11:30 - 12:20 - Chamber Business and Lunch Serv
 ice\n\n12:20 -  12:50  -  Speaker with Q&amp\;A\n\n12:50 -  1:00  -
  Door Prizes &amp\; Announcements
URL;VALUE=URI:https://uptownchamber.org/events/may-chamber-luncheon-spon
 sored-by-midflorida-teco-and-eye-candy-prints/
UID:urn:uuid:4bfda4b0-2aee-4e3a-9470-7fd9c5f2e1ca
STATUS:CONFIRMED
ORGANIZER:
DTSTAMP:20260419T225649Z
DTSTART;TZID=America/New_York:20260521T110000
DTEND;TZID=America/New_York:20260521T130000
LOCATION:Yuengling Draft Haus &amp\; Kitchen\, 11109 N 30th St\, Tampa\,
  FL\, 33612\, United States
END:VEVENT
END:VCALENDAR