BEGIN:VCALENDAR
METHOD:PUBLISH
VERSION:2.0
CALSCALE:GREGORIAN
PRODID:-//NONSGML WPForms//NONSGML Sugar Calendar Feeds v3.11.0//EN
X-WR-CALNAME:June Coffee Connection - Sponsor TBD
X-WR-CALDESC:Uptown Chamber of Commerce
X-WR-TIMEZONE:America/New_York
BEGIN:VTIMEZONE
TZID:America/New_York
BEGIN:DAYLIGHT
TZOFFSETFROM:-0500
TZOFFSETTO:-0400
DTSTART:20260308T070000
TZNAME:EDT
END:DAYLIGHT
END:VTIMEZONE
BEGIN:VTIMEZONE
TZID:America/New_York
BEGIN:DAYLIGHT
TZOFFSETFROM:-0500
TZOFFSETTO:-0400
DTSTART:20260308T070000
TZNAME:EDT
END:DAYLIGHT
END:VTIMEZONE
BEGIN:VEVENT
SUMMARY:June Coffee Connection - Sponsor TBD
DESCRIPTION:Join us for a relaxed event. This is a great chance to netwo
 rk\, catch up\, and enjoy a fresh cup of coffee! Bring a friend\, make n
 ew connections\, and start your morning with a boost of energy and comm
 unity spirit. Have your business cards handy to share and leave behind
  so the Chamber can continue to promote your business. Please register s
 o we know how much coffee to provide!
URL;VALUE=URI:https://uptownchamber.org/events/june-coffee-connection-sp
 onsor-tbd/
UID:urn:uuid:42f055b7-bf16-4682-a904-92bd01da6def
STATUS:CONFIRMED
ORGANIZER:
DTSTAMP:20260419T213958Z
DTSTART;TZID=America/New_York:20260603T080000
DTEND;TZID=America/New_York:20260603T093000
END:VEVENT
END:VCALENDAR